BEGIN:VCALENDAR
VERSION:2.0
PRODID:-//wp-events-plugin.com//7.2.3.1//EN
BEGIN:VEVENT
UID:201@biblio.ucaldas.edu.co
DTSTART;TZID=America/Bogota:20250227T080000
DTEND;TZID=America/Bogota:20250227T123000
DTSTAMP:20250204T131630Z
URL:https://biblio.ucaldas.edu.co/events/webinar-de-onboarding-general-con
 sorcio-colombia-2025/
SUMMARY:Webinar de Onboarding general Consorcio Colombia 2025
DESCRIPTION:Tema: Onboarding Consorcio Colombia\n\nObjetivo: En este espaci
 o dará a conocer a los miembros del Consorcio el contenido al cual accede
 rán durante el 2025\, cantidad de títulos\, beneficios de cada editor y 
 valores agregados.\n\nEditor: Consorcio Colombia\n\nPonente: Todos los Ed
 itores.\n\n 	8:00 am - 8:15 am – Espacio de Bienvenida\n 	8:15 am - 8:30
  am   Orcid Paula Saavedra\n 	8.30 am - 9:00 am – Taylor y Francis
  Nilda Helena\n 	9:00 am – 9:30 am – Clarivate\, Fernando Franco\n
  	9:30 am -10:00 am - Springer Nature\, Luciana Freitas\, Daniel Rangel\
 n 	10:00 am -10:30 am - Oxford University Press\, Paulina Medel\n 	10.30
  am – 11:00 am – PLOS Juan Manuel López\n 	11:00 am – 11:30 am 
 - Elsevier Karen Angulo\n 	11:30 am – 12:00 m - Cambridge\, Edua
 rdo Cervantes\n 	12:00 m – 12:30 pm – SAGE Felipe Vargas – Veró
 nica Montaño\n
LOCATION:https://acortar.link/Vc6Ylm
END:VEVENT
BEGIN:VTIMEZONE
TZID:America/Bogota
X-LIC-LOCATION:America/Bogota
BEGIN:STANDARD
DTSTART:20240228T080000
TZOFFSETFROM:-0500
TZOFFSETTO:-0500
TZNAME:-05
END:STANDARD
END:VTIMEZONE
END:VCALENDAR