BEGIN:VCALENDAR
VERSION:2.0
PRODID:-//wp-events-plugin.com//7.2.3.1//EN
BEGIN:VEVENT
UID:282@biblio.ucaldas.edu.co
DTSTART;TZID=America/Bogota:20251014T160000
DTEND;TZID=America/Bogota:20251014T170000
DTSTAMP:20250930T144723Z
URL:https://biblio.ucaldas.edu.co/events/uso-responsable-de-la-inteligenci
 a-artificial-para-tus-proyectos-academicos-y-cientificos-4/
SUMMARY:Uso responsable de la Inteligencia Artificial para tus proyectos ac
 adémicos y científicos
DESCRIPTION:Agenda\n\n1. Nuevo módulo: Web of Science Researcher Assistant
 \n2. Ética en la investigación\n3. WoS RA\, un aliado durante tu investi
 gación\n\nEl objetivo de este webinar es promover el uso responsable de l
 a Inteligencia Artificial en proyectos académicos y científicos dentro d
 e un ambiente confiable de investigación.\n\nSitio de entrenamientos en e
 spañol: https://www.youtube.com/@clarivatelatamoficial1706/videos
LOCATION:https://clarivatewebinars.webex.com/webappng/sites/clarivatewebina
 rs/meeting/register/3acfb2befa874d4a865da63e867db509?ticket=4832534b000000
 07e851575fb402df0ce856e63dfd80c27cf93c9e68679f44450cb68183f1deac49&timesta
 mp=1759243561910&RGID=rba7178f3c581abab33f33cdbf71489e0&isAutoPopRegisterF
 orm=false
END:VEVENT
BEGIN:VTIMEZONE
TZID:America/Bogota
X-LIC-LOCATION:America/Bogota
BEGIN:STANDARD
DTSTART:20241014T160000
TZOFFSETFROM:-0500
TZOFFSETTO:-0500
TZNAME:-05
END:STANDARD
END:VTIMEZONE
END:VCALENDAR