BEGIN:VCALENDAR
VERSION:2.0
PRODID:-//wp-events-plugin.com//7.2.3.1//EN
BEGIN:VEVENT
UID:246@biblio.ucaldas.edu.co
DTSTART;TZID=America/Bogota:20250729T130000
DTEND;TZID=America/Bogota:20250729T140000
DTSTAMP:20250703T161419Z
URL:https://biblio.ucaldas.edu.co/events/uso-responsable-de-la-inteligenci
 a-artificial-para-tus-proyectos-academicos-y-cientificos-3/
SUMMARY:Uso responsable de la Inteligencia Artificial para tus proyectos ac
 adémicos y científicos
DESCRIPTION:Agenda\n1. Nuevo módulo: Web of Science Researcher Assistant\n
 2. Ética en la investigación\n3. WoS RA\, un aliado durante tu investiga
 ción\n\nEl objetivo de este webinar es promover el uso responsable de la 
 Inteligencia Artificial en proyectos académicos y científicos dentro de 
 un ambiente confiable de investigación.\n\nSitio de entrenamientos en esp
 añol: https://www.youtube.com/@clarivatelatamoficial1706/videos
LOCATION:https://clarivatewebinars.webex.com/webappng/sites/clarivatewebina
 rs/meeting/register/52268e45bff2491cab6b4a35aeb48124?ticket=4832534b000000
 076757a3b11325b31cc703e35b330597e44bc2413963e2470b4e58906035ebd8f1&timesta
 mp=1751559187040&RGID=rc4dd852ea9e89e319b8f33cb94cb30ee&isAutoPopRegisterF
 orm=false
END:VEVENT
BEGIN:VTIMEZONE
TZID:America/Bogota
X-LIC-LOCATION:America/Bogota
BEGIN:STANDARD
DTSTART:20240729T130000
TZOFFSETFROM:-0500
TZOFFSETTO:-0500
TZNAME:-05
END:STANDARD
END:VTIMEZONE
END:VCALENDAR