BEGIN:VCALENDAR
VERSION:2.0
PRODID:-//wp-events-plugin.com//7.2.3.1//EN
BEGIN:VEVENT
UID:229@biblio.ucaldas.edu.co
DTSTART;TZID=America/Bogota:20250527T160000
DTEND;TZID=America/Bogota:20250527T170000
DTSTAMP:20250505T223122Z
URL:https://biblio.ucaldas.edu.co/events/uso-responsable-de-la-inteligenci
 a-artificial-para-tus-proyectos-academicos-y-cientificos-2/
SUMMARY:Uso responsable de la Inteligencia Artificial para tus proyectos ac
 adémicos y científicos
DESCRIPTION:Agenda\n1. Nuevo módulo: Web of Science Researcher Assistant\n
 2. Ética en la investigación\n3. WoS RA\, un aliado durante tu investigE
 l objetivo de este webinar es promover el uso responsable de la Inteligenc
 ia Artificial en proyectos académicos y científicos dentro de un ambient
 e confiable de investigación.\n\nEl objetivo de este webinar es promover 
 el uso responsable de la Inteligencia Artificial en proyectos académicos 
 y científicos dentro de un ambiente confiable de investigación.\n\nSitio
  de entrenamientos en español: https://www.youtube.com/@clarivatelatamofi
 cial1706/videos
LOCATION:https://clarivatewebinars.webex.com/webappng/sites/clarivatewebina
 rs/meeting/register/267dacd949d3411cb6604d395da8ec28?ticket=4832534b000000
 075966d106b799c79a6297bc300adc18e23eaa2082c22b2e3e0eecb41985fe8d79&timesta
 mp=1746484213637&RGID=r4d42e97d740ce868b2b7122d91b981c5&isAutoPopRegisterF
 orm=false
END:VEVENT
BEGIN:VTIMEZONE
TZID:America/Bogota
X-LIC-LOCATION:America/Bogota
BEGIN:STANDARD
DTSTART:20240527T160000
TZOFFSETFROM:-0500
TZOFFSETTO:-0500
TZNAME:-05
END:STANDARD
END:VTIMEZONE
END:VCALENDAR