BEGIN:VCALENDAR
VERSION:2.0
PRODID:-//wp-events-plugin.com//7.2.3.1//EN
BEGIN:VEVENT
UID:231@biblio.ucaldas.edu.co
DTSTART;TZID=America/Bogota:20250520T110000
DTEND;TZID=America/Bogota:20250520T120000
DTSTAMP:20250515T205725Z
URL:https://biblio.ucaldas.edu.co/events/tu-dia-a-dia-con-springer-nature/
SUMMARY:Tú día a día con Springer Nature
DESCRIPTION:Tú día a día con Springer Nature\nDescripción\n\nEste curso
  está diseñado para guiar a los participantes a través de las etapas m
 ás comunes del proceso de investigación\, aprovechando los recursos y he
 rramientas de Springer Nature. A lo largo de la capacitación\, los asiste
 ntes explorarán cómo elegir un tema de investigación adecuado\, realiza
 r un análisis del estado del arte\, profundizar en la búsqueda de inform
 ación relevante\, discriminar y evaluar la información encontrada\, y fi
 nalmente\, conocer las claves para la publicación de sus trabajos. El obj
 etivo es proporcionar estrategias prácticas para optimizar cada etapa con
  éxito.
LOCATION:https://us06web.zoom.us/webinar/register/WN_aJIn96uSTJyRkpuX7Ax8Ew
 ?sap-outbound-id=A8E5BA5ECCD7515F5D4D62FEFC0B7A81EF50D785#/registration
END:VEVENT
BEGIN:VTIMEZONE
TZID:America/Bogota
X-LIC-LOCATION:America/Bogota
BEGIN:STANDARD
DTSTART:20240520T110000
TZOFFSETFROM:-0500
TZOFFSETTO:-0500
TZNAME:-05
END:STANDARD
END:VTIMEZONE
END:VCALENDAR