BEGIN:VCALENDAR
VERSION:2.0
PRODID:-//wp-events-plugin.com//7.2.3.1//EN
BEGIN:VEVENT
UID:277@biblio.ucaldas.edu.co
DTSTART;TZID=America/Bogota:20251007T100000
DTEND;TZID=America/Bogota:20251007T110000
DTSTAMP:20250930T143828Z
URL:https://biblio.ucaldas.edu.co/events/tu-dia-a-dia-con-springer-nature-
 2/
SUMMARY:Tú día a día con Springer Nature
DESCRIPTION:Este curso está diseñado para guiar a los participantes a tra
 vés de las etapas más comunes del proceso de investigación\, aprovechan
 do los recursos y herramientas de Springer Nature. A lo largo de la capaci
 tación\, los asistentes explorarán cómo elegir un tema de investigació
 n adecuado\, realizar un análisis del estado del arte\, profundizar en la
  búsqueda de información relevante\, discriminar y evaluar la informaci
 ón encontrada\, y finalmente\, conocer las claves para la publicación de
  sus trabajos. El objetivo es proporcionar estrategias prácticas para opt
 imizar cada etapa con éxito.
LOCATION:https://events.teams.microsoft.com/event/8fc54bde-badd-4fad-afdd-0
 48392c8ae23@d9aabe7c-608b-4fe1-957c-0739cb0dfe22
END:VEVENT
BEGIN:VTIMEZONE
TZID:America/Bogota
X-LIC-LOCATION:America/Bogota
BEGIN:STANDARD
DTSTART:20241007T100000
TZOFFSETFROM:-0500
TZOFFSETTO:-0500
TZNAME:-05
END:STANDARD
END:VTIMEZONE
END:VCALENDAR