BEGIN:VCALENDAR
VERSION:2.0
PRODID:-//wp-events-plugin.com//7.2.3.1//EN
BEGIN:VEVENT
UID:245@biblio.ucaldas.edu.co
DTSTART;TZID=America/Bogota:20250729T100000
DTEND;TZID=America/Bogota:20250729T110000
DTSTAMP:20250703T161300Z
URL:https://biblio.ucaldas.edu.co/events/springer-nature-link-y-nature-com
 -tus-aliados-en-la-investigacion-3/
SUMMARY:Springer Nature Link y Nature.com: tus aliados en la investigación
DESCRIPTION:Detalles\nEn esta capacitación\, te proporcionaremos una visi
 ón completa de dos de las plataformas más importantes en el mundo acadé
 mico. Aprenderás las generalidades de Springer NatureLink y Nature.com\, 
 explorando sus características únicas\, similitudes y diferencias clave.
  Además\, te guiaremos a través de los alcances y posibilidades que cada
  plataforma ofrece para optimizar tu búsqueda de información\, acceder a
  contenidos relevantes y aprovechar al máximo los recursos disponibles.
LOCATION:https://events.teams.microsoft.com/event/5bce184a-4706-4879-932f-d
 b07f5d00196@d9aabe7c-608b-4fe1-957c-0739cb0dfe22
END:VEVENT
BEGIN:VTIMEZONE
TZID:America/Bogota
X-LIC-LOCATION:America/Bogota
BEGIN:STANDARD
DTSTART:20240729T100000
TZOFFSETFROM:-0500
TZOFFSETTO:-0500
TZNAME:-05
END:STANDARD
END:VTIMEZONE
END:VCALENDAR