BEGIN:VCALENDAR
VERSION:2.0
PRODID:-//wp-events-plugin.com//7.2.3.1//EN
BEGIN:VEVENT
UID:287@biblio.ucaldas.edu.co
DTSTART;TZID=America/Bogota:20251023T100000
DTEND;TZID=America/Bogota:20251023T110000
DTSTAMP:20251015T135526Z
URL:https://biblio.ucaldas.edu.co/events/seminario-web-estrategias-de-busq
 ueda-con-inteligencia-artificial-y-habilidades-para-bibliotecarios-taylor-
 y-francis/
SUMMARY:Seminario web “Estrategias de búsqueda con Inteligencia Artifici
 al y habilidades para bibliotecarios” Taylor y Francis
DESCRIPTION:Detalles\n\nDiseñado para potenciar capacidades de búsqueda d
 e información en bases de datos bibliográficas.\n\nEn esta ocasión\, co
 ntaremos con la presencia de una invitada especial\, Elena de la Torre de 
 Taylor &amp\; Francis\, quien nos guiará en el uso de la IA para crear pr
 ompts efectivos y generar ecuaciones de búsqueda exitosas. Utilizaremos l
 a plataforma Taylor &amp\; Francis como ejemplo práctico\, explorando có
 mo responde a las necesidades actuales de usuarios e investigadores.\n\n&n
 bsp\;\n\nObjetivos de la sesión:\n\n¿Qué aprenderás?\n\n 	Cómo aprove
 char la IA para optimizar tus búsquedas.\n 	Técnicas para crear prompts 
 que generen resultados precisos.\n 	Estrategias para maximizar el uso de b
 ases de datos bibliográficas como Taylor &amp\; Francis.\n 	Conocimientos
  actualizados sobre las herramientas que responden a las necesidades de la
  comunidad académica: bases de datos bibliográficas.\n
LOCATION:https://events.teams.microsoft.com/event/6122bc5b-d143-407d-8fa4-f
 59150ce8f2d@ae3f689c-3fdb-42d0-9ec6-9aed8498a367
END:VEVENT
BEGIN:VTIMEZONE
TZID:America/Bogota
X-LIC-LOCATION:America/Bogota
BEGIN:STANDARD
DTSTART:20241023T100000
TZOFFSETFROM:-0500
TZOFFSETTO:-0500
TZNAME:-05
END:STANDARD
END:VTIMEZONE
END:VCALENDAR