BEGIN:VCALENDAR
VERSION:2.0
PRODID:-//wp-events-plugin.com//7.2.3.1//EN
BEGIN:VEVENT
UID:260@biblio.ucaldas.edu.co
DTSTART;TZID=America/Bogota:20250828T090000
DTEND;TZID=America/Bogota:20250828T100000
DTSTAMP:20250728T154327Z
URL:https://biblio.ucaldas.edu.co/events/seminario-web-como-usar-taylor-fr
 ancis-journals-como-un-pro/
SUMMARY:Seminario web Cómo usar Taylor & Francis Journals como un Pro
DESCRIPTION:Detalles\n&nbsp\;\n\n¿Qué aprenderás?\n\n 	Navegación y fun
 cionalidades básicas de Taylor &amp\; Francis Online.\n 	Estrategias de b
 úsqueda avanzada para encontrar artículos relevantes\n 	Uso de filtros y
  herramientas de refinamiento para optimizar tus resultados.\n 	Acceso a c
 ontenido de acceso abierto y otros recursos disponibles en la plataforma.\
 n 	Como utilizar las herramientas que Taylor and Francis pone a disposici
 ón para los investigadores.\n\n¿A quién va dirigido?\n\n 	Estudiantes d
 e pregrado y posgrado.\n 	Investigadores y académicos.\n 	Profesionales d
 e diversas áreas.\n 	Bibliotecarios y gestores de información.\n 	Cualqu
 ier persona interesada en acceder a información científica confiable.\n\
 nBeneficios:\n\n 	Optimiza tu tiempo y encuentra la información que neces
 itas de manera eficiente.\n 	Mejora tus habilidades de búsqueda y acceso 
 a recursos científicos.\n 	Aprovecha al máximo las herramientas y funcio
 nalidades de Taylor &amp\; Francis.\n 	Accede a contenido de alta calidad 
 de diversas disciplinas.\n
LOCATION:https://events.teams.microsoft.com/event/fc9e1b18-d382-4f06-918b-9
 5345d80304b@ae3f689c-3fdb-42d0-9ec6-9aed8498a367
END:VEVENT
BEGIN:VTIMEZONE
TZID:America/Bogota
X-LIC-LOCATION:America/Bogota
BEGIN:STANDARD
DTSTART:20240828T090000
TZOFFSETFROM:-0500
TZOFFSETTO:-0500
TZNAME:-05
END:STANDARD
END:VTIMEZONE
END:VCALENDAR