BEGIN:VCALENDAR
VERSION:2.0
PRODID:-//wp-events-plugin.com//7.2.3.1//EN
BEGIN:VEVENT
UID:274@biblio.ucaldas.edu.co
DTSTART;TZID=America/Bogota:20250925T090000
DTEND;TZID=America/Bogota:20250925T100000
DTSTAMP:20250908T134211Z
URL:https://biblio.ucaldas.edu.co/events/seminario-web-charla-para-autores
 -sobre-publicaciones-politicas-y-uso-de-ia-con-taylor-y-francis-2/
SUMMARY:Seminario web “Charla para autores sobre Publicaciones\, polític
 as y uso de IA con Taylor y Francis”
DESCRIPTION:Objetivos de la sesión:\n\n 	Socializar la terminología bási
 ca necesaria conocer cuando se quiere publicar en journals de Taylor &amp\
 ; Francis.\n 	Compartir recomendaciones que ayuden a evitar los principale
 s errores y mejoren los tiempos de publicación.\n 	Discutir la postura y 
 políticas de Taylor &amp\; Francis con respecto al uso de inteligencia ar
 tificial generativa en publicaciones científicas\n 	Distribuir y trabajar
  con guías existentes que pueden ser útiles para la publicación de art
 ículos científicos.\n
LOCATION:https://events.teams.microsoft.com/event/d2e3aa3b-3bb8-449e-a42c-b
 23510b5581c@ae3f689c-3fdb-42d0-9ec6-9aed8498a367
END:VEVENT
BEGIN:VTIMEZONE
TZID:America/Bogota
X-LIC-LOCATION:America/Bogota
BEGIN:STANDARD
DTSTART:20240925T090000
TZOFFSETFROM:-0500
TZOFFSETTO:-0500
TZNAME:-05
END:STANDARD
END:VTIMEZONE
END:VCALENDAR