BEGIN:VCALENDAR
VERSION:2.0
PRODID:-//wp-events-plugin.com//7.2.3.1//EN
BEGIN:VEVENT
UID:210@biblio.ucaldas.edu.co
DTSTART;TZID=America/Bogota:20250228T100000
DTEND;TZID=America/Bogota:20250228T110000
DTSTAMP:20250226T141131Z
URL:https://biblio.ucaldas.edu.co/events/scopus-ai-la-nueva-era-del-conoci
 miento-academico/
SUMMARY:Scopus AI: la nueva era del conocimiento académico
DESCRIPTION:Te invitamos a participar en nuestro próximo webinar diseñado
  para que conozcas como Scopus AI puede potenciar la investigación acadé
 mica y facilitar el acceso al conocimiento.\n\n\n\n&nbsp\;\n\n&nbsp\;
LOCATION:https://bit.ly/4icUplp
END:VEVENT
BEGIN:VTIMEZONE
TZID:America/Bogota
X-LIC-LOCATION:America/Bogota
BEGIN:STANDARD
DTSTART:20240229T100000
TZOFFSETFROM:-0500
TZOFFSETTO:-0500
TZNAME:-05
END:STANDARD
END:VTIMEZONE
END:VCALENDAR