BEGIN:VCALENDAR
VERSION:2.0
PRODID:-//wp-events-plugin.com//7.2.3.1//EN
BEGIN:VEVENT
UID:280@biblio.ucaldas.edu.co
DTSTART;TZID=America/Bogota:20251010T100000
DTEND;TZID=America/Bogota:20251010T100000
DTSTAMP:20250930T144302Z
URL:https://biblio.ucaldas.edu.co/events/scival-sesion-de-aprendizaje-de-l
 a-plataforma/
SUMMARY:SciVal - Sesión de aprendizaje de la plataforma
DESCRIPTION:Uso Avanzado de SciVal | Sesión avanzada para crear reportes p
 ersonalizados y analizar tendencias.\n\nObjetivos:\n- Personalización de 
 reportes\n- Análisis de colaboración\n- Identificación de áreas de imp
 acto.\n\nDuración: 1 hora\nNota: es necesario registrarse al menos 1 hora
  antes de la sesión para recibir el enlace de conexión\nCertificados de 
 asistencia: Se entregan las instrucciones al correo electrónico con el qu
 e se registro.
LOCATION:https://elsevier.zoom.us/webinar/register/WN_RgQiwwauRg6JSes3bz4yC
 w#/registration
END:VEVENT
BEGIN:VTIMEZONE
TZID:America/Bogota
X-LIC-LOCATION:America/Bogota
BEGIN:STANDARD
DTSTART:20241010T100000
TZOFFSETFROM:-0500
TZOFFSETTO:-0500
TZNAME:-05
END:STANDARD
END:VTIMEZONE
END:VCALENDAR