BEGIN:VCALENDAR
VERSION:2.0
PRODID:-//wp-events-plugin.com//7.2.3.1//EN
BEGIN:VEVENT
UID:264@biblio.ucaldas.edu.co
DTSTART;TZID=America/Bogota:20250825T150000
DTEND;TZID=America/Bogota:20250825T150000
DTSTAMP:20250805T140338Z
URL:https://biblio.ucaldas.edu.co/events/scival-evaluacion-colaboracion-y-
 analisis-avanzado-de-la-productividad-investigativa/
SUMMARY:SciVal: Evaluación\, colaboración y análisis avanzado de la prod
 uctividad investigativa
DESCRIPTION:Los investigadores aprenderán a utilizar SciVal para evaluar l
 a productividad científica\, identificar oportunidades de colaboración i
 nternacional y analizar tendencias en investigación. Se abordarán desde 
 los conceptos básicos y principales indicadores\, hasta el uso avanzado d
 e la plataforma para crear reportes personalizados y detectar áreas de im
 pacto. La sesión incluirá una demostración práctica y un espacio para 
 resolver dudas específicas de los participantes.\n\nDuración: 1.5 horas\
 n\nNota: es necesario registrarse al menos 1 hora antes de la sesión para
  recibir el enlace de conexión\n\nCertificados de asistencia: Se entregan
  las instrucciones al correo electrónico con el que se registro.
LOCATION:https://elsevier.zoom.us/webinar/register/WN_GX8IZTvWRamUhwykCvL--
 g#/registration
END:VEVENT
BEGIN:VTIMEZONE
TZID:America/Bogota
X-LIC-LOCATION:America/Bogota
BEGIN:STANDARD
DTSTART:20240825T150000
TZOFFSETFROM:-0500
TZOFFSETTO:-0500
TZNAME:-05
END:STANDARD
END:VTIMEZONE
END:VCALENDAR