BEGIN:VCALENDAR
VERSION:2.0
PRODID:-//wp-events-plugin.com//7.2.3.1//EN
BEGIN:VEVENT
UID:214@biblio.ucaldas.edu.co
DTSTART;TZID=America/Bogota:20250327T150000
DTEND;TZID=America/Bogota:20250327T160000
DTSTAMP:20250303T201330Z
URL:https://biblio.ucaldas.edu.co/events/sciencedirect-y-scopus/
SUMMARY:Estrategias Avanzadas de Búsqueda y Recolección de Datos
DESCRIPTION:Estrategias Avanzadas de Búsqueda y Recolección de Datos| Apr
 ende técnicas avanzadas para realizar búsquedas efectivas y recolectar d
 atos de manera eficiente.\n\nObjetivos:\n\n 	Estrategias avanzadas de bús
 queda y herramientas\n 	Uso de filtros especializados\n 	Recolección efic
 iente de datos\n\nDuración: 1.5 horas\nNota: es necesario registrarse al 
 menos 1 hora antes de la sesión para recibir el enlace de conexión\nCert
 ificados de asistencia: Se entregan las instrucciones al correo electróni
 co con el que se registro.
LOCATION:https://acortar.link/fYA4OG
END:VEVENT
BEGIN:VTIMEZONE
TZID:America/Bogota
X-LIC-LOCATION:America/Bogota
BEGIN:STANDARD
DTSTART:20240327T150000
TZOFFSETFROM:-0500
TZOFFSETTO:-0500
TZNAME:-05
END:STANDARD
END:VTIMEZONE
END:VCALENDAR