BEGIN:VCALENDAR
VERSION:2.0
PRODID:-//wp-events-plugin.com//7.2.3.1//EN
BEGIN:VEVENT
UID:238@biblio.ucaldas.edu.co
DTSTART;TZID=America/Bogota:20250619T150000
DTEND;TZID=America/Bogota:20250619T150000
DTSTAMP:20250604T183717Z
URL:https://biblio.ucaldas.edu.co/events/sciencedirect-y-scopus-sesion-de-
 aprendizaje-de-uso-de-la-plataforma-3/
SUMMARY:ScienceDirect y Scopus - Sesión de aprendizaje de uso de la plataf
 orma
DESCRIPTION:Aplicación en la Investigación y Difusión de Resultados| Apr
 ende cómo cerrar el ciclo de investigación aplicando la información rec
 olectada y difundiendo los resultados de manera efectiva. Objetivos: - Uso
  de ScienceDirect y Scopus para escritura académica - Preparación de pre
 sentaciones basadas en evidencias - Estrategias de difusión Duración: 1.
 5 horas Nota: es necesario registrarse al menos 1 hora antes de la sesión
  para recibir el enlace de conexión Certificados de asistencia: Se entreg
 an las instrucciones al correo electrónico con el que se registro.
LOCATION:https://elsevier.zoom.us/webinar/register/WN_HTWfLZJhRmexI086sbX0F
 A#/registration
END:VEVENT
BEGIN:VTIMEZONE
TZID:America/Bogota
X-LIC-LOCATION:America/Bogota
BEGIN:STANDARD
DTSTART:20240619T150000
TZOFFSETFROM:-0500
TZOFFSETTO:-0500
TZNAME:-05
END:STANDARD
END:VTIMEZONE
END:VCALENDAR