BEGIN:VCALENDAR
VERSION:2.0
PRODID:-//wp-events-plugin.com//7.2.3.1//EN
BEGIN:VEVENT
UID:234@biblio.ucaldas.edu.co
DTSTART;TZID=America/Bogota:20250605T150000
DTEND;TZID=America/Bogota:20250605T150000
DTSTAMP:20250604T183107Z
URL:https://biblio.ucaldas.edu.co/events/sciencedirect-y-scopus-sesion-de-
 aprendizaje-de-uso-de-la-plataforma-2/
SUMMARY:ScienceDirect y Scopus - Sesión de aprendizaje de uso de la plataf
 orma
DESCRIPTION:Análisis de Métricas y Evaluación de la Calidad de las Fuent
 es | Adquiere habilidades para evaluar críticamente información académi
 ca utilizando métricas de impacto\, citas y calidad de las fuentes.\n\nOb
 jetivos:\n- Métricas de impacto y citas en ScienceDirect y Scopus\n- Eval
 uación crítica de la calidad de las fuentes\n- Análisis bibliométrico\
 n\nDuración: 1.5 horas\nNota: es necesario registrarse al menos 1 hora an
 tes de la sesión para recibir el enlace de conexión\nCertificados de asi
 stencia: Se entregan las instrucciones al correo electrónico con el que s
 e registro.
LOCATION:https://elsevier.zoom.us/webinar/register/WN_jaYVkW2bRXm3Az_3dFOnU
 w#/registration
END:VEVENT
BEGIN:VTIMEZONE
TZID:America/Bogota
X-LIC-LOCATION:America/Bogota
BEGIN:STANDARD
DTSTART:20240605T150000
TZOFFSETFROM:-0500
TZOFFSETTO:-0500
TZNAME:-05
END:STANDARD
END:VTIMEZONE
END:VCALENDAR