BEGIN:VCALENDAR
VERSION:2.0
PRODID:-//wp-events-plugin.com//7.2.3.1//EN
BEGIN:VEVENT
UID:276@biblio.ucaldas.edu.co
DTSTART;TZID=America/Bogota:20250915T110000
DTEND;TZID=America/Bogota:20250915T110000
DTSTAMP:20250912T155736Z
URL:https://biblio.ucaldas.edu.co/events/sage-moments-un-viaje-por-los-lib
 ros-de-sage-2/
SUMMARY:Sage Moments: Un viaje por los libros de Sage
DESCRIPTION:Esta sesión explica como se conforma la colección de Sage Ref
 erence &amp\; Academic Books\, cuales son las cualidades de la colección 
 a la que tienen acceso y como explorar y utilizar la herramienta con prop
 ósitos académicos y de investigación.
LOCATION:https://events.teams.microsoft.com/event/c885b568-e6c8-47d6-8629-c
 3857e47ffa9@ae3f689c-3fdb-42d0-9ec6-9aed8498a367
END:VEVENT
BEGIN:VTIMEZONE
TZID:America/Bogota
X-LIC-LOCATION:America/Bogota
BEGIN:STANDARD
DTSTART:20240915T110000
TZOFFSETFROM:-0500
TZOFFSETTO:-0500
TZNAME:-05
END:STANDARD
END:VTIMEZONE
END:VCALENDAR