BEGIN:VCALENDAR
VERSION:2.0
PRODID:-//wp-events-plugin.com//7.2.3.1//EN
BEGIN:VEVENT
UID:284@biblio.ucaldas.edu.co
DTSTART;TZID=America/Bogota:20251020T140000
DTEND;TZID=America/Bogota:20251020T150000
DTSTAMP:20250930T145046Z
URL:https://biblio.ucaldas.edu.co/events/sage-moments-publica-sin-costo-en
 -revistas-de-sage/
SUMMARY:Sage Moments: Publica sin costo en revistas de Sage
DESCRIPTION:Esta sesión busca que cualquier persona con potencial de creac
 ión y publicación\, pueda comprender cuales son los requisitos mínimos 
 y algunas generalidades para la publicación de artículos en la revistas 
 de Sage\, como acceder al descuento en las publicaciones y las caracterís
 ticas de los mismos.
LOCATION:https://events.teams.microsoft.com/event/02cdc84f-7c21-42b3-bb66-4
 5d3b1334df6@ae3f689c-3fdb-42d0-9ec6-9aed8498a367
END:VEVENT
BEGIN:VTIMEZONE
TZID:America/Bogota
X-LIC-LOCATION:America/Bogota
BEGIN:STANDARD
DTSTART:20241020T140000
TZOFFSETFROM:-0500
TZOFFSETTO:-0500
TZNAME:-05
END:STANDARD
END:VTIMEZONE
END:VCALENDAR