BEGIN:VCALENDAR
VERSION:2.0
PRODID:-//wp-events-plugin.com//7.2.3.1//EN
BEGIN:VEVENT
UID:302@biblio.ucaldas.edu.co
DTSTART;TZID=America/Bogota:20251111T100000
DTEND;TZID=America/Bogota:20251111T100000
DTSTAMP:20251031T124721Z
URL:https://biblio.ucaldas.edu.co/events/sage-moments-la-filosofia-detras-
 de-sage-y-sus-colecciones/
SUMMARY:Sage Moments: La filosofía detrás de Sage y sus colecciones
DESCRIPTION:Detalles\n&nbsp\;\n\nEsta sesión busca conectar con el persona
 l de Biblioteca\, para entender el trabajo que hay detrás de las coleccio
 nes de Sage\, la historia y objetivos de la editorial\, buscando generar u
 n entendimiento de la filosofía detrás de la misma y como esto tiene un 
 impacto directo en la generación de las colecciones\, su curaduría y la 
 visión completa al publicar un artículo o libro.
LOCATION:https://events.teams.microsoft.com/event/3e26ab9d-793d-4ccf-92bd-d
 5174bc399c2@ae3f689c-3fdb-42d0-9ec6-9aed8498a367
END:VEVENT
BEGIN:VTIMEZONE
TZID:America/Bogota
X-LIC-LOCATION:America/Bogota
BEGIN:STANDARD
DTSTART:20241111T100000
TZOFFSETFROM:-0500
TZOFFSETTO:-0500
TZNAME:-05
END:STANDARD
END:VTIMEZONE
END:VCALENDAR