BEGIN:VCALENDAR
VERSION:2.0
PRODID:-//wp-events-plugin.com//7.2.3.1//EN
BEGIN:VEVENT
UID:262@biblio.ucaldas.edu.co
DTSTART;TZID=America/Bogota:20250805T140000
DTEND;TZID=America/Bogota:20250805T150000
DTSTAMP:20250805T135414Z
URL:https://biblio.ucaldas.edu.co/events/sage-moments-hablemos-journals-mu
 ltidisciplinares-de-sage/
SUMMARY:Sage Moments: Hablemos Journals multidisciplinares de Sage
DESCRIPTION:Esta sesión busca que los participantes conozcan el contenido 
 al que tienen acceso a través de Sage Journals\, y puedan explorar las ca
 pacidades de la herramienta\, en su versión más ocmpleta de contenidos\,
  para un el entorno académico\, así como la comprensión del impacto de 
 las colección desde una visión de academia e investigación.
LOCATION:https://events.teams.microsoft.com/event/f0fcc33d-53f9-407b-854e-6
 32616b2d1c7@ae3f689c-3fdb-42d0-9ec6-9aed8498a367
END:VEVENT
BEGIN:VTIMEZONE
TZID:America/Bogota
X-LIC-LOCATION:America/Bogota
BEGIN:STANDARD
DTSTART:20240805T140000
TZOFFSETFROM:-0500
TZOFFSETTO:-0500
TZNAME:-05
END:STANDARD
END:VTIMEZONE
END:VCALENDAR