BEGIN:VCALENDAR
VERSION:2.0
PRODID:-//wp-events-plugin.com//7.2.3.1//EN
BEGIN:VEVENT
UID:268@biblio.ucaldas.edu.co
DTSTART;TZID=America/Bogota:20250918T110000
DTEND;TZID=America/Bogota:20250918T110000
DTSTAMP:20250825T151148Z
URL:https://biblio.ucaldas.edu.co/events/requisitos-para-publicar-su-artic
 ulo-en-acceso-abierto-sin-costos-2/
SUMMARY:Requisitos para publicar su artículo en acceso abierto sin costos
DESCRIPTION:¿Está cubierto por un acuerdo de Springer Nature para publica
 r en acceso abierto? En este cuarto webinar\, profundizaremos en los aspec
 tos prácticos y requisitos específicos para aprovechar al máximo los be
 neficios de los acuerdos transformativos.\n\nDesde la correcta afiliación
  institucional hasta la selección de licencias\, cada paso del proceso pu
 ede influir en la visibilidad final de su investigación. Examinaremos cas
 os prácticos de América Latina\, demostrando cómo investigadores como u
 sted han navegado exitosamente este proceso.\n\nLe ofreceremos una hoja de
  ruta clara para eliminar barreras financieras a la publicación\, permiti
 éndole concentrarse en lo que realmente importa: su investigación.
LOCATION:https://us06web.zoom.us/webinar/register/WN_17x5BnuUSv-PrR6gZDuK8g
 ?sap-outbound-id=23EE680A440E07F8AEF63BFC860764E775B575A9#/registration
END:VEVENT
BEGIN:VTIMEZONE
TZID:America/Bogota
X-LIC-LOCATION:America/Bogota
BEGIN:STANDARD
DTSTART:20240918T110000
TZOFFSETFROM:-0500
TZOFFSETTO:-0500
TZNAME:-05
END:STANDARD
END:VTIMEZONE
END:VCALENDAR