BEGIN:VCALENDAR
VERSION:2.0
PRODID:-//wp-events-plugin.com//7.2.3.1//EN
BEGIN:VEVENT
UID:263@biblio.ucaldas.edu.co
DTSTART;TZID=America/Bogota:20250820T100000
DTEND;TZID=America/Bogota:20250820T100000
DTSTAMP:20250805T135634Z
URL:https://biblio.ucaldas.edu.co/events/publicando-en-las-ciencias-social
 es-y-las-humanidades-que-tener-en-cuenta-cuando-preparamos-nuestro-articul
 o-cientifico/
SUMMARY:Publicando en las Ciencias Sociales y las Humanidades: Qué Tener e
 n Cuenta Cuando Preparamos Nuestro Artículo Científico
DESCRIPTION:En esta sesión nos acomapañará el Dr. Álvaro López\, Assoc
 iate Scientific Editor en Elsevier\, compartiendo desde su experiencia el 
 camino que recorre el artículo científico\, desde su preparación hasta 
 su publicación\, está caracterizado por rigurosos criterios de evaluaci
 ón y selección que salvaguardan la propagación de la ciencia. Desde la 
 preparación de nuestro trabajo hasta el proceso editorial y la revisión 
 por pares\, la publicación del artículo científico presenta retos y sat
 isfacciones que atañen por igual a todas las ciencias. ¿Pero qué pasa c
 uando hablamos de las ciencias sociales y las humanidades? ¿Cuáles son l
 as particularidades a tener en cuenta cuando hablamos de publicar en algun
 a de sus disciplinas y campos del saber?\n\nEsta charla presentará una vi
 sión del camino que recurre el artículo científico enfocada a las cienc
 ias sociales y del comportamiento y las humanidades. En particular\, esta 
 charla se centrará en tres aspectos: El trabajo interdisciplinario y la s
 elección de una revista adecuada\, el proceso editorial\, y las considera
 ciones éticas.\n\nDuración: 1 hora\n\nNota: Es necesario registrarse al 
 menos 1 hora antes de la sesión para recibir el enlace de conexión\n\nCe
 rtificados de asistencia: Se entregan las instrucciones al correo electró
 nico con el que se registro.
LOCATION:https://elsevier.zoom.us/webinar/register/WN_mnYHZ03fSAK9xczIA9VsE
 w#/registration
END:VEVENT
BEGIN:VTIMEZONE
TZID:America/Bogota
X-LIC-LOCATION:America/Bogota
BEGIN:STANDARD
DTSTART:20240820T100000
TZOFFSETFROM:-0500
TZOFFSETTO:-0500
TZNAME:-05
END:STANDARD
END:VTIMEZONE
END:VCALENDAR