BEGIN:VCALENDAR
VERSION:2.0
PRODID:-//wp-events-plugin.com//7.2.3.1//EN
BEGIN:VEVENT
UID:273@biblio.ucaldas.edu.co
DTSTART;TZID=America/Bogota:20250918T100000
DTEND;TZID=America/Bogota:20250918T110000
DTSTAMP:20250908T134003Z
URL:https://biblio.ucaldas.edu.co/events/publicacion-en-acceso-abierto-nav
 egando-el-ecosistema-plos-para-investigadores/
SUMMARY:Publicación en Acceso Abierto: Navegando el Ecosistema PLOS para I
 nvestigadores
DESCRIPTION:Capacitar a los investigadores para comprender y utilizar efect
 ivamente el ecosistema de publicación PLOS\, proporcionándoles las herra
 mientas y conocimientos necesarios para navegar con éxito el proceso de p
 ublicación en acceso abierto\, desde la selección de la revista más ade
 cuada hasta la preparación y envío de manuscritos que cumplan con los es
 tándares editoriales y científicos de esta plataforma.
LOCATION:https://events.teams.microsoft.com/event/46be72cb-ff0e-4c83-a7b4-d
 3b9182c7ad2@ae3f689c-3fdb-42d0-9ec6-9aed8498a367
END:VEVENT
BEGIN:VTIMEZONE
TZID:America/Bogota
X-LIC-LOCATION:America/Bogota
BEGIN:STANDARD
DTSTART:20240918T100000
TZOFFSETFROM:-0500
TZOFFSETTO:-0500
TZNAME:-05
END:STANDARD
END:VTIMEZONE
END:VCALENDAR