BEGIN:VCALENDAR
VERSION:2.0
PRODID:-//wp-events-plugin.com//7.2.3.1//EN
BEGIN:VEVENT
UID:305@biblio.ucaldas.edu.co
DTSTART;TZID=America/Bogota:20251112T150000
DTEND;TZID=America/Bogota:20251112T150000
DTSTAMP:20251031T125702Z
URL:https://biblio.ucaldas.edu.co/events/publicacion-cientifica-para-los-i
 nvestigadores/
SUMMARY:Publicación científica para los investigadores
DESCRIPTION:Descripción\nPublicación Ética con Elsevier | Aprende sobre 
 ética en la publicación y cómo evitar malas prácticas. Plagio\, Confli
 ctos de interés\, Buenas prácticas editoriales.
LOCATION:https://elsevier.zoom.us/webinar/register/WN_h67JWl6-QrO9XlRpsFxaA
 g#/registration
END:VEVENT
BEGIN:VTIMEZONE
TZID:America/Bogota
X-LIC-LOCATION:America/Bogota
BEGIN:STANDARD
DTSTART:20241112T150000
TZOFFSETFROM:-0500
TZOFFSETTO:-0500
TZNAME:-05
END:STANDARD
END:VTIMEZONE
END:VCALENDAR