BEGIN:VCALENDAR
VERSION:2.0
PRODID:-//wp-events-plugin.com//7.2.3.1//EN
BEGIN:VEVENT
UID:281@biblio.ucaldas.edu.co
DTSTART;TZID=America/Bogota:20251014T130000
DTEND;TZID=America/Bogota:20251014T140000
DTSTAMP:20250930T144434Z
URL:https://biblio.ucaldas.edu.co/events/promocion-socioeconomica/
SUMMARY:Conoce los recursos de investigación sin costo que te ofrece Clari
 vate
DESCRIPTION:Agenda\n\n1. Crea tu perfil de investigador en WoS\n2. Gestiona
  tus referencias bibliográficas con EndNote\n3. Recupera textos completos
  con el plugin de EndNote\n4. Identifica en qué revistas de alto impacto 
 publicar utilizando el MJL 5. Consulta reportes globales de investigación
 \n\nEl objetivo de este webinar es conocer las soluciones de investigació
 n de libre acceso de los recursos de investigación de Clarivate.\n\nSitio
  de entrenamientos en español: https://www.youtube.com/@clarivatelatamofi
 cial1706/videos
LOCATION:https://clarivatewebinars.webex.com/webappng/sites/clarivatewebina
 rs/meeting/register/d7e843bdf3ff4451aa7d20ece27a7144?ticket=4832534b000000
 077667255752f77c51dd824dfeb64131e94ec2ffb5921ae98d3aedc7e8f4c61826&timesta
 mp=1759243387297&RGID=ra306b14163ff842a12b630a258ed40ca&isAutoPopRegisterF
 orm=false
END:VEVENT
BEGIN:VTIMEZONE
TZID:America/Bogota
X-LIC-LOCATION:America/Bogota
BEGIN:STANDARD
DTSTART:20241014T130000
TZOFFSETFROM:-0500
TZOFFSETTO:-0500
TZNAME:-05
END:STANDARD
END:VTIMEZONE
END:VCALENDAR