BEGIN:VCALENDAR
VERSION:2.0
PRODID:-//wp-events-plugin.com//7.2.3.1//EN
BEGIN:VEVENT
UID:226@biblio.ucaldas.edu.co
DTSTART;TZID=America/Bogota:20250513T100000
DTEND;TZID=America/Bogota:20250513T110000
DTSTAMP:20250505T221647Z
URL:https://biblio.ucaldas.edu.co/events/navegando-con-exito-en-nature-com
 -estrategias-para-investigadores/
SUMMARY:Navegando con éxito en Nature.com: estrategias para investigadores
DESCRIPTION:Este curso está diseñado para ofrecerte una comprensión prof
 unda de Nature.com\, una plataforma líder en la publicación científica.
  Te enseñaremos a explorar sus características más avanzadas\, desde la
  búsqueda de artículos y revisión de contenidos hasta el uso de herrami
 entas especializadas. Aprenderás a discernir cuándo y cómo utilizar Nat
 ure.com de manera efectiva\, adaptando tus estrategias de búsqueda según
  tus necesidades. Mejorarás tu capacidad para encontrar información rele
 vante\, optimizando así tu proceso de investigación.\n\n&nbsp\;\n\nLucia
 na Freitas\nTrainer\nSpringer Nature America\, Inc
LOCATION:https://events.teams.microsoft.com/event/55abfa31-a714-497e-8801-1
 f1051f8a007@d9aabe7c-608b-4fe1-957c-0739cb0dfe22
END:VEVENT
BEGIN:VTIMEZONE
TZID:America/Bogota
X-LIC-LOCATION:America/Bogota
BEGIN:STANDARD
DTSTART:20240513T100000
TZOFFSETFROM:-0500
TZOFFSETTO:-0500
TZNAME:-05
END:STANDARD
END:VTIMEZONE
END:VCALENDAR