BEGIN:VCALENDAR
VERSION:2.0
PRODID:-//wp-events-plugin.com//7.2.3.1//EN
BEGIN:VEVENT
UID:257@biblio.ucaldas.edu.co
DTSTART;TZID=America/Bogota:20250820T100000
DTEND;TZID=America/Bogota:20250820T110000
DTSTAMP:20250728T152726Z
URL:https://biblio.ucaldas.edu.co/events/mendeley-institucional-gestion-in
 teligente-de-referencias-para-investigadores/
SUMMARY:Mendeley Institucional: Gestión inteligente de referencias para in
 vestigadores
DESCRIPTION:Mendeley es una herramienta integral de gestión de referencias
  bibliográficas que revoluciona la forma en que los investigadores organi
 zan\, comparten y citan sus fuentes académicas. Esta plataforma es un ges
 tor de referencias robusto con capacidades de red social académica\, perm
 itiendo a los usuarios crear bibliotecas personales de documentos PDF\, ge
 nerar citas automáticamente en múltiples formatos y colaborar eficientem
 ente con otros investigadores.
LOCATION:https://events.teams.microsoft.com/event/fc464d40-2adc-4e8e-823b-3
 6f1d7959be3@ae3f689c-3fdb-42d0-9ec6-9aed8498a367
END:VEVENT
BEGIN:VTIMEZONE
TZID:America/Bogota
X-LIC-LOCATION:America/Bogota
BEGIN:STANDARD
DTSTART:20240820T100000
TZOFFSETFROM:-0500
TZOFFSETTO:-0500
TZNAME:-05
END:STANDARD
END:VTIMEZONE
END:VCALENDAR