BEGIN:VCALENDAR
VERSION:2.0
PRODID:-//wp-events-plugin.com//7.2.3.1//EN
BEGIN:VEVENT
UID:267@biblio.ucaldas.edu.co
DTSTART;TZID=America/Bogota:20250911T110000
DTEND;TZID=America/Bogota:20250911T110000
DTSTAMP:20250825T151038Z
URL:https://biblio.ucaldas.edu.co/events/mejores-practicas-en-la-publicaci
 on-cientifica/
SUMMARY:Mejores prácticas en la publicación científica
DESCRIPTION:En este tercer webinar\, exploraremos algunas de las mejores pr
 ácticas y los pilares fundamentales de la integridad en la publicación c
 ientífica.\n\n¿Qué diferencias existen entre los modelos de publicació
 n y sus implicaciones para los derechos de autor? Analizaremos los benefic
 ios de compartir datos abiertos y utilizar servidores de preprints para au
 mentar la visibilidad de su investigación. Examinaremos los estándares 
 éticos\, principios de autoría y tipos de mala conducta que todo investi
 gador debe conocer\, junto con sus consecuencias.\n\nSpringer Nature toma 
 este compromiso con extrema seriedad\, invirtiendo continuamente en herram
 ientas que salvaguardan la confiabilidad del registro científico. Descubr
 a cómo estas mejores prácticas no solo protegen la ciencia\, sino que po
 tencian significativamente el impacto de su trabajo.
LOCATION:https://us06web.zoom.us/webinar/register/WN_vs9kk6rBSP61W_oMWxCREA
 ?sap-outbound-id=23EE680A440E07F8AEF63BFC860764E775B575A9#/registration
END:VEVENT
BEGIN:VTIMEZONE
TZID:America/Bogota
X-LIC-LOCATION:America/Bogota
BEGIN:STANDARD
DTSTART:20240911T110000
TZOFFSETFROM:-0500
TZOFFSETTO:-0500
TZNAME:-05
END:STANDARD
END:VTIMEZONE
END:VCALENDAR