BEGIN:VCALENDAR
VERSION:2.0
PRODID:-//wp-events-plugin.com//7.2.3.1//EN
BEGIN:VEVENT
UID:244@biblio.ucaldas.edu.co
DTSTART;TZID=America/Bogota:20250724T140000
DTEND;TZID=America/Bogota:20250724T150000
DTSTAMP:20250703T161126Z
URL:https://biblio.ucaldas.edu.co/events/mas-alla-de-las-publicaciones-ges
 tion-de-datos-para-revelar-el-ecosistema-invisible-del-conocimiento/
SUMMARY:Más Allá de las Publicaciones: Gestión de Datos para Revelar el 
 Ecosistema Invisible del Conocimiento
DESCRIPTION:Detalles\nLa investigación académica es como un iceberg: lo q
 ue vemos en publicaciones y métricas tradicionales representa solo una fr
 acción del conocimiento que realmente se genera. Datasets preliminares\, 
 prototipos\, proyectos no publicados\, procesos de transferencia tecnológ
 ica y aplicaciones sociales conforman un vasto "universo paralelo" que per
 manece invisible en las evaluaciones tradicionales.\n\nEn esta charla expl
 oraremos cómo la gestión estratégica de datos de investigación puede r
 evelar y valorizar este ecosistema oculto del conocimiento. Descubriremos 
 técnicas innovadoras para capturar la "materia oscura" del saber\, y acer
 carnos a la identificación del impacto social y económico de la investig
 ación\, y reconocer la incidencia real que va más allá de las citas aca
 démicas.
LOCATION:https://events.teams.microsoft.com/event/0a2bc11a-cb38-4d77-8636-f
 738205fbcac@ae3f689c-3fdb-42d0-9ec6-9aed8498a367
END:VEVENT
BEGIN:VTIMEZONE
TZID:America/Bogota
X-LIC-LOCATION:America/Bogota
BEGIN:STANDARD
DTSTART:20240724T140000
TZOFFSETFROM:-0500
TZOFFSETTO:-0500
TZNAME:-05
END:STANDARD
END:VTIMEZONE
END:VCALENDAR