BEGIN:VCALENDAR
VERSION:2.0
PRODID:-//wp-events-plugin.com//7.2.3.1//EN
BEGIN:VEVENT
UID:200@biblio.ucaldas.edu.co
DTSTART;TZID=America/Bogota:20250213T140000
DTEND;TZID=America/Bogota:20250213T153000
DTSTAMP:20250204T130949Z
URL:https://biblio.ucaldas.edu.co/events/la-ciencia-de-colombia-es-mas-vis
 ible-en-el-mundo-presentacion-de-los-acuerdoos-transformativos-del-consorc
 io-colombia/
SUMMARY:La ciencia de Colombia es más visible en el mundo: Presentación d
 e los Acuerdos Transformativos del Consorcio Colombia
DESCRIPTION:Tema: Acuerdos transformativos.\n\nEditor: Consortia\n\nObjetiv
 o: En este espacio conoceremos los Acuerdos Transformativos vigentes para 
 2025\, la metodología de distribución\, las revistas disponibles y el c
 ómo aplicar a los Acuerdos. También resolveremos dudas frecuentes y cana
 les de comunicación con las editoriales y el Consorcio Colombia.\n\nPonen
 te: César Pallares
LOCATION:https://acortar.link/CYBpfz
END:VEVENT
BEGIN:VTIMEZONE
TZID:America/Bogota
X-LIC-LOCATION:America/Bogota
BEGIN:STANDARD
DTSTART:20240214T140000
TZOFFSETFROM:-0500
TZOFFSETTO:-0500
TZNAME:-05
END:STANDARD
END:VTIMEZONE
END:VCALENDAR