BEGIN:VCALENDAR
VERSION:2.0
PRODID:-//wp-events-plugin.com//7.2.3.1//EN
BEGIN:VEVENT
UID:255@biblio.ucaldas.edu.co
DTSTART;TZID=America/Bogota:20250814T110000
DTEND;TZID=America/Bogota:20250814T120000
DTSTAMP:20250728T142741Z
URL:https://biblio.ucaldas.edu.co/events/investigadores-que-muestran-sus-f
 ortalezas-investigadores-que-transforman-unete-a-widocol/
SUMMARY:Investigadores que muestran sus fortalezas\, investigadores que tra
 nsforman: Únete a WidoCol
DESCRIPTION:Detalles\n&nbsp\;\n\nObjetivo: Dar a conocer cómo WidoCol vis
 ibiliza y conecta las fortalezas y capacidades investigativas de Colombia\
 , creando un ecosistema que facilita colaboraciones estratégicas y amplif
 ica el impacto académico\, a través de la vinculación sencilla del perf
 il ORCID al mapa científico nacional
LOCATION:https://events.teams.microsoft.com/event/035b55fe-9c42-43fd-b001-a
 f390ff25ca4@ae3f689c-3fdb-42d0-9ec6-9aed8498a367
END:VEVENT
BEGIN:VTIMEZONE
TZID:America/Bogota
X-LIC-LOCATION:America/Bogota
BEGIN:STANDARD
DTSTART:20240814T110000
TZOFFSETFROM:-0500
TZOFFSETTO:-0500
TZNAME:-05
END:STANDARD
END:VTIMEZONE
END:VCALENDAR