BEGIN:VCALENDAR
VERSION:2.0
PRODID:-//wp-events-plugin.com//7.2.3.1//EN
BEGIN:VEVENT
UID:233@biblio.ucaldas.edu.co
DTSTART;TZID=America/Bogota:20250529T110000
DTEND;TZID=America/Bogota:20250529T110000
DTSTAMP:20250528T131608Z
URL:https://biblio.ucaldas.edu.co/events/introduccion-a-scopus-ai-potencia
 ndo-la-investigacion-con-inteligencia-artificial/
SUMMARY:Introducción a Scopus AI: Potenciando la Investigación con Inteli
 gencia Artificial
DESCRIPTION:En esta sesión de una hora\, exploraremos Scopus AI\, una inno
 vadora herramienta diseñada para optimizar la investigación académica. 
 Comenzaremos con una introducción a la base de datos de Scopus y el proce
 so de curación de contenido que garantiza la calidad de la información. 
 Compararemos Scopus AI con otras herramientas de inteligencia artificial g
 enerativa\, destacando sus componentes clave y la tecnología que la respa
 lda. También abordaremos temas cruciales como la privacidad y seguridad d
 e los datos\, así como las medidas implementadas para minimizar sesgos y 
 alucinaciones. Finalmente\, discutiremos las funcionalidades específicas 
 de Scopus AI y su evolución futura\, proporcionando una visión completa 
 de cómo esta herramienta puede transformar la forma en que los investigad
 ores acceden y utilizan la información.\n\nNota: Se necesita un registro 
 previo al menos una (1) hora antes de la sesión para que reciba el enlace
  de ingreso.
LOCATION:https://elsevier.zoom.us/webinar/register/WN_30qlN584QIaGzWLgCfJHv
 Q#/registration
END:VEVENT
BEGIN:VTIMEZONE
TZID:America/Bogota
X-LIC-LOCATION:America/Bogota
BEGIN:STANDARD
DTSTART:20240529T110000
TZOFFSETFROM:-0500
TZOFFSETTO:-0500
TZNAME:-05
END:STANDARD
END:VTIMEZONE
END:VCALENDAR