BEGIN:VCALENDAR
VERSION:2.0
PRODID:-//wp-events-plugin.com//7.2.3.1//EN
BEGIN:VEVENT
UID:279@biblio.ucaldas.edu.co
DTSTART;TZID=America/Bogota:20251008T100000
DTEND;TZID=America/Bogota:20251008T100000
DTSTAMP:20250930T144138Z
URL:https://biblio.ucaldas.edu.co/events/funding-institutional-sesion-de-a
 prendizaje-de-uso-de-la-plataforma-2/
SUMMARY:Funding Institutional - Sesión de aprendizaje de uso de la platafo
 rma
DESCRIPTION:Estrategias Avanzadas en Funding Institutional | Aprende a gest
 ionar oportunidades y realizar seguimientos efectivos.\n\nObjetivos:\n- Ge
 stión de oportunidades\n- Exportación de resultados\n- Seguimiento de co
 nvocatorias.\n\nDuración: 1 hora\nNota: es necesario registrarse al menos
  1 hora antes de la sesión para recibir el enlace de conexión\nCertifica
 dos de asistencia: Se entregan las instrucciones al correo electrónico co
 n el que se registro.
LOCATION:https://elsevier.zoom.us/webinar/register/WN_vBrSFp6vQRavodm5GA1Bt
 g#/registration
END:VEVENT
BEGIN:VTIMEZONE
TZID:America/Bogota
X-LIC-LOCATION:America/Bogota
BEGIN:STANDARD
DTSTART:20241008T100000
TZOFFSETFROM:-0500
TZOFFSETTO:-0500
TZNAME:-05
END:STANDARD
END:VTIMEZONE
END:VCALENDAR