BEGIN:VCALENDAR
VERSION:2.0
PRODID:-//wp-events-plugin.com//7.2.3.1//EN
BEGIN:VEVENT
UID:278@biblio.ucaldas.edu.co
DTSTART;TZID=America/Bogota:20251007T160000
DTEND;TZID=America/Bogota:20251007T170000
DTSTAMP:20250930T143957Z
URL:https://biblio.ucaldas.edu.co/events/donde-buscar-financiamiento-exter
 no-para-mis-proyectos-academicos-y-o-cientificos-2/
SUMMARY:¿Dónde buscar financiamiento externo para mis proyectos académic
 os y/o científicos?
DESCRIPTION:Agenda\n\n1.- Qué es Pivot y a quién beneficia?\n2.- Cómo en
 contrar convocatorias y becas con mayor facilidad?\n3.- Funcionalidades de
  Pivot para localizar conferencias internacionales.\n4.- Localización de 
 redes internacionales de proyectos de investigación\n\nEl objetivo de est
 e webinar es dar a conocer PIVOT como herramienta de financiamiento confia
 ble para la detección y rastreo de recursos y oportunidades externas a mi
  Institución.\n\nSitio de entrenamientos en español: https://www.youtube
 .com/@clarivatelatamoficial1706/videos
LOCATION:https://clarivatewebinars.webex.com/webappng/sites/clarivatewebina
 rs/meeting/register/8dcaaf398c2c48718c9924e3d6c81657?ticket=4832534b000000
 07b3c07169af4c80e64436e4630c1fda117bf6d2fd098138520015d33d11ee4ff0&timesta
 mp=1759243112084&RGID=r7b059ccdf8dd2dfe574d74d8e6643de8&isAutoPopRegisterF
 orm=false
END:VEVENT
BEGIN:VTIMEZONE
TZID:America/Bogota
X-LIC-LOCATION:America/Bogota
BEGIN:STANDARD
DTSTART:20241007T160000
TZOFFSETFROM:-0500
TZOFFSETTO:-0500
TZNAME:-05
END:STANDARD
END:VTIMEZONE
END:VCALENDAR