BEGIN:VCALENDAR
VERSION:2.0
PRODID:-//wp-events-plugin.com//7.2.3.1//EN
BEGIN:VEVENT
UID:293@biblio.ucaldas.edu.co
DTSTART;TZID=America/Bogota:20251023T110000
DTEND;TZID=America/Bogota:20251023T110000
DTSTAMP:20251020T154600Z
URL:https://biblio.ucaldas.edu.co/events/descubre-el-poder-de-consortia-cl
 inicalkey-mas-que-informacion-decisiones-clinicas-precisas/
SUMMARY:Descubre el Poder de Consortia ClinicalKey: Más que Información\,
  Decisiones Clínicas Precisas
DESCRIPTION:En el dinámico entorno de la salud\, el tiempo es vital y la 
 precisión es no negociable. Este webinar está diseñado para mostrarte 
 cómo ClinicalKey te permite acceder a respuestas clínicas rápidas\, 
 confiables y basadas en la evidencia\, optimizando cada minuto de tu jorna
 da.\nDescubrirás cómo esta poderosa plataforma te ofrece más que solo 
 artículos\, brindándote herramientas interactivas que impactan directame
 nte en el cuidado del paciente y en tu eficiencia profesional.\n\nLo que A
 prenderás en el Evento:\nAl finalizar el webinar\, serás capaz de:\n\n 	
 \nAcceder a la Evidencia más Confiable: Localiza y utiliza información 
 clínica\, guías de práctica y monografías validadas por expertos para 
 resolver dilemas diagnósticos y terapéuticos complejos.\n 	\nOptimizar t
 u Flujo de Trabajo Clínico: Utiliza las funcionalidades avanzadas de Cli
 nicalKey para encontrar respuestas en el punto de atención de forma inm
 ediata\, desde resúmenes de enfermedades hasta recursos multimedia.\n 	\n
 Minimizar Riesgos y Mejorar Resultados: Fundamenta tus decisiones en la 
 última evidencia disponible\, reduciendo la variabilidad en la práctica 
 y elevando la calidad de la atención al paciente.\n\nDetalles del Webinar
 \n\n 	\n Fecha: jueves\, 23 de octubre\n 	\n Hora: 11:00 a.m.\n 	\n P
 lataforma: Teams (El enlace de acceso se enviará al registrarte).\n 	\n
  Regístrate Ahora: https://acortar.link/wwlLLb\n
LOCATION:https://acortar.link/wwlLLb
END:VEVENT
BEGIN:VTIMEZONE
TZID:America/Bogota
X-LIC-LOCATION:America/Bogota
BEGIN:STANDARD
DTSTART:20241023T110000
TZOFFSETFROM:-0500
TZOFFSETTO:-0500
TZNAME:-05
END:STANDARD
END:VTIMEZONE
END:VCALENDAR