BEGIN:VCALENDAR
VERSION:2.0
PRODID:-//wp-events-plugin.com//7.2.3.1//EN
BEGIN:VEVENT
UID:247@biblio.ucaldas.edu.co
DTSTART;TZID=America/Bogota:20250804T100000
DTEND;TZID=America/Bogota:20250804T113000
DTSTAMP:20250728T135847Z
URL:https://biblio.ucaldas.edu.co/events/de-lo-local-a-lo-global-experienc
 ias-exitosas-en-indexacion-wos-y-scopus-desde-colombia/
SUMMARY:De lo Local a lo Global: Experiencias Exitosas en Indexación WoS y
  Scopus desde Colombia
DESCRIPTION:Encuentro especializado donde editores y coordinadores de revis
 tas podrán conocer de primera mano las experiencias de indexación de las
  revistas de la Universidad de La Sabana y la Universidad de Antioquia. El
  evento se enfocará en los procesos\, tiempos\, recursos y estrategias im
 plementadas para alcanzar la indexación en Web of Science y Scopus. Se ab
 ordarán temas como la gestión editorial\, mejora de la calidad científi
 ca\, internacionalización del comité editorial\, y el impacto de la inde
 xación en el reconocimiento institucional y la atracción de autores de a
 lto nivel.
LOCATION:https://events.teams.microsoft.com/event/051d1d07-e125-4fea-a521-f
 bdf9b2dcf98@ae3f689c-3fdb-42d0-9ec6-9aed8498a367
END:VEVENT
BEGIN:VTIMEZONE
TZID:America/Bogota
X-LIC-LOCATION:America/Bogota
BEGIN:STANDARD
DTSTART:20240804T100000
TZOFFSETFROM:-0500
TZOFFSETTO:-0500
TZNAME:-05
END:STANDARD
END:VTIMEZONE
END:VCALENDAR