BEGIN:VCALENDAR
VERSION:2.0
PRODID:-//wp-events-plugin.com//7.2.3.1//EN
BEGIN:VEVENT
UID:299@biblio.ucaldas.edu.co
DTSTART;TZID=America/Bogota:20251106T110000
DTEND;TZID=America/Bogota:20251106T110000
DTSTAMP:20251031T123600Z
URL:https://biblio.ucaldas.edu.co/events/consortia-explora-avanzando-hacia
 -la-ciencia-transparente-datos-abiertos-y-revistas/
SUMMARY:Consortia Explora : Avanzando hacia la ciencia transparente: datos 
 abiertos y revistas
DESCRIPTION:Detalles\nDirigido a: Investigadores\, estudiantes de posgrado\
 , personal académico\n\nObjetivo General: Empoderar a investigadores para
  navegar exitosamente el nuevo panorama editorial donde la transparencia d
 e datos es clave para publicar en revistas de alto impacto.
LOCATION:https://events.teams.microsoft.com/event/731b867f-7ebf-4768-ae17-a
 70f90071354@ae3f689c-3fdb-42d0-9ec6-9aed8498a367
END:VEVENT
BEGIN:VTIMEZONE
TZID:America/Bogota
X-LIC-LOCATION:America/Bogota
BEGIN:STANDARD
DTSTART:20241106T110000
TZOFFSETFROM:-0500
TZOFFSETTO:-0500
TZNAME:-05
END:STANDARD
END:VTIMEZONE
END:VCALENDAR