BEGIN:VCALENDAR
VERSION:2.0
PRODID:-//wp-events-plugin.com//7.2.3.1//EN
BEGIN:VEVENT
UID:298@biblio.ucaldas.edu.co
DTSTART;TZID=America/Bogota:20251105T150000
DTEND;TZID=America/Bogota:20251105T150000
DTSTAMP:20251031T122900Z
URL:https://biblio.ucaldas.edu.co/events/consorcio-colombia-explora-elsevi
 er/
SUMMARY:Consorcio Colombia Explora Elsevier
DESCRIPTION:
LOCATION:https://events.teams.microsoft.com/event/ed2846f0-7bcf-44e8-8077-4
 8316a7ca3b4@ae3f689c-3fdb-42d0-9ec6-9aed8498a367
END:VEVENT
BEGIN:VTIMEZONE
TZID:America/Bogota
X-LIC-LOCATION:America/Bogota
BEGIN:STANDARD
DTSTART:20241105T150000
TZOFFSETFROM:-0500
TZOFFSETTO:-0500
TZNAME:-05
END:STANDARD
END:VTIMEZONE
END:VCALENDAR