BEGIN:VCALENDAR
VERSION:2.0
PRODID:-//wp-events-plugin.com//7.2.3.1//EN
BEGIN:VEVENT
UID:296@biblio.ucaldas.edu.co
DTSTART;TZID=America/Bogota:20251105T090000
DTEND;TZID=America/Bogota:20251105T090000
DTSTAMP:20251031T121831Z
URL:https://biblio.ucaldas.edu.co/events/consorcio-colombia-explora-clariv
 ate/
SUMMARY:Consorcio Colombia Explora Clarivate
DESCRIPTION:
LOCATION:https://events.teams.microsoft.com/event/6d0db9cb-8cd7-4976-ace2-d
 7b9cc7d7b67@ae3f689c-3fdb-42d0-9ec6-9aed8498a367
END:VEVENT
BEGIN:VTIMEZONE
TZID:America/Bogota
X-LIC-LOCATION:America/Bogota
BEGIN:STANDARD
DTSTART:20241105T090000
TZOFFSETFROM:-0500
TZOFFSETTO:-0500
TZNAME:-05
END:STANDARD
END:VTIMEZONE
END:VCALENDAR