BEGIN:VCALENDAR
VERSION:2.0
PRODID:-//wp-events-plugin.com//7.2.3.1//EN
BEGIN:VEVENT
UID:294@biblio.ucaldas.edu.co
DTSTART;TZID=America/Bogota:20251104T110000
DTEND;TZID=America/Bogota:20251104T110000
DTSTAMP:20251031T121104Z
URL:https://biblio.ucaldas.edu.co/events/consorcio-colombia-explora-acs-am
 erican-chemical-society-acs/
SUMMARY:Consorcio Colombia Explora ACS: American Chemical Society (ACS)
DESCRIPTION:Detalles\nConoce las revistas científicas que publican las inv
 estigaciones que pueden revolucionar el futuro de la ciencia y permite a l
 os investigadores la posibilidad de publicar en acceso abierto de forma il
 imitada en todas las revistas de la sociedad científica más grande del m
 undo.
LOCATION:https://events.teams.microsoft.com/event/23be07bd-e814-433d-b56d-1
 a7f15b134b1@ae3f689c-3fdb-42d0-9ec6-9aed8498a367
END:VEVENT
BEGIN:VTIMEZONE
TZID:America/Bogota
X-LIC-LOCATION:America/Bogota
BEGIN:STANDARD
DTSTART:20241104T110000
TZOFFSETFROM:-0500
TZOFFSETTO:-0500
TZNAME:-05
END:STANDARD
END:VTIMEZONE
END:VCALENDAR