BEGIN:VCALENDAR
VERSION:2.0
PRODID:-//wp-events-plugin.com//7.2.3.1//EN
BEGIN:VEVENT
UID:206@biblio.ucaldas.edu.co
DTSTART;TZID=America/Bogota:20250213T110000
DTEND;TZID=America/Bogota:20250213T120000
DTSTAMP:20250211T143920Z
URL:https://biblio.ucaldas.edu.co/events/conoce-nnnconsult-a-traves-de-cas
 os-de-uso/
SUMMARY:Conoce NNNConsult a través de casos de uso
DESCRIPTION:Conoce las bondades de NNNConsult y cómo esta plataforma puede
  apoyarte en tu ciclo de trabajo.
LOCATION:https://events.teams.microsoft.com/event/5682f444-bfa9-4ea0-809f-c
 a627b6c80e8@449988ad-bc94-4b3c-bce0-4a57da430394
END:VEVENT
BEGIN:VTIMEZONE
TZID:America/Bogota
X-LIC-LOCATION:America/Bogota
BEGIN:STANDARD
DTSTART:20240214T110000
TZOFFSETFROM:-0500
TZOFFSETTO:-0500
TZNAME:-05
END:STANDARD
END:VTIMEZONE
END:VCALENDAR