BEGIN:VCALENDAR
VERSION:2.0
PRODID:-//wp-events-plugin.com//7.2.3.1//EN
BEGIN:VEVENT
UID:253@biblio.ucaldas.edu.co
DTSTART;TZID=America/Bogota:20250812T130000
DTEND;TZID=America/Bogota:20250812T140000
DTSTAMP:20250728T142349Z
URL:https://biblio.ucaldas.edu.co/events/conoce-los-recursos-de-investigac
 ion-sin-costo-que-te-ofrece-clarivate-2/
SUMMARY:Conoce los recursos de investigación sin costo que te ofrece Clari
 vate
DESCRIPTION:Agenda\n&nbsp\;\n1. Crea tu perfil de investigador en WoS\n2. G
 estiona tus referencias bibliográficas con EndNote\n3. Recupera textos co
 mpletos con el plugin de EndNote\n4. Identifica en qué revistas de alto i
 mpacto publicar utilizando el MJL\n5. Consulta reportes globales de invest
 igación\n\nEl objetivo de este webinar es conocer las soluciones de inves
 tigación de libre acceso de los recursos de investigación de Clarivate.\
 n\nSitio de entrenamientos en español: https://www.youtube.com/@clarivate
 latamoficial1706/videos
LOCATION:https://clarivatewebinars.webex.com/webappng/sites/clarivatewebina
 rs/meeting/register/9015217ecf3f4a01beb00a84e32f548b?ticket=4832534b000000
 0715454a9451e4b45230b8c533655bdd3727ea8ea00dd08223781a89ea6a259c0f&timesta
 mp=1753712527883&RGID=r3f0205af627f7154ba3904d5be40b445&isAutoPopRegisterF
 orm=false
END:VEVENT
BEGIN:VTIMEZONE
TZID:America/Bogota
X-LIC-LOCATION:America/Bogota
BEGIN:STANDARD
DTSTART:20240812T130000
TZOFFSETFROM:-0500
TZOFFSETTO:-0500
TZNAME:-05
END:STANDARD
END:VTIMEZONE
END:VCALENDAR