BEGIN:VCALENDAR
VERSION:2.0
PRODID:-//wp-events-plugin.com//7.2.3.1//EN
BEGIN:VEVENT
UID:308@biblio.ucaldas.edu.co
DTSTART;TZID=America/Bogota:20251125T093000
DTEND;TZID=America/Bogota:20251125T093000
DTSTAMP:20251031T130746Z
URL:https://biblio.ucaldas.edu.co/events/como-publicar-articulos-cientific
 os-oxford-academic/
SUMMARY:Como Publicar Artículos Científicos\, Oxford Academic
DESCRIPTION:\n\nAcerca de este Webinar\n\nOxford University Press (OUP) pub
 lica revistas de la más alta calidad para el desarrollo de la investigaci
 ón a la audiencia más amplia posible. Lo logramos trabajando en estrecha
  colaboración con los socios\, autores y suscriptores de nuestra sociedad
  para brindarles servicios de publicación que satisfagan sus necesidades 
 de investigación.\n\n\n\nConsideramos que nuestro papel en la comunidad a
 cadémica se extiende a la publicación que hacemos en nombre de las socie
 dades. Publicamos más de 400 revistas académicas en humanidades\, cienci
 as sociales\, derecho\, ciencia y medicina\, dos tercios de las cuales se 
 publican con sociedades científicas y profesionales. OUP tiene un prestig
 ioso patrimonio de investigación y un profundo conocimiento de los deseos
  y necesidades de los investigadores y académicos.\n\n\n\n\n\n\nWhen: Ma
 rtes\, Noviembre 25\, 2025 · 9:30 a.m. · -05\nDuración: 1 hora\nIdioma
 : Español\n¿Quién puede asistir? Cualquier persona con el enlace del 
 evento puede asistir\nID del seminario web: 8e0642b19d2f\n¿Marcación di
 sponible? (sólo escucha): No\n
LOCATION:https://events.oup.com/oup-academic-sales/como-publicar-art-culos-
 cient-ficos-oxford-academic
END:VEVENT
BEGIN:VTIMEZONE
TZID:America/Bogota
X-LIC-LOCATION:America/Bogota
BEGIN:STANDARD
DTSTART:20241125T093000
TZOFFSETFROM:-0500
TZOFFSETTO:-0500
TZNAME:-05
END:STANDARD
END:VTIMEZONE
END:VCALENDAR