BEGIN:VCALENDAR
VERSION:2.0
PRODID:-//wp-events-plugin.com//7.2.3.1//EN
BEGIN:VEVENT
UID:269@biblio.ucaldas.edu.co
DTSTART;TZID=America/Bogota:20250924T110000
DTEND;TZID=America/Bogota:20250924T110000
DTSTAMP:20250825T151300Z
URL:https://biblio.ucaldas.edu.co/events/como-maximizar-la-visibilidad-de-
 su-publicacion/
SUMMARY:Cómo maximizar la visibilidad de su publicación
DESCRIPTION:Publicar en acceso abierto es solo el primer paso—ahora es fu
 ndamental dar a conocer su trabajo a la audiencia adecuada. En este webina
 r final\, aprenda estrategias efectivas para maximizar el impacto de su in
 vestigación tras su publicación.\n\nDescubra las mejores prácticas para
  compartir su trabajo en plataformas académicas y redes sociales científ
 icas que aumentan significativamente la visibilidad de su artículo. Explo
 re métodos probados para conectar con comunidades de investigación relev
 antes y aprenda a interpretar las altmétricas como complemento valioso a 
 las citaciones tradicionales. Comprenda cómo una estrategia de comunicaci
 ón bien planificada puede transformar el alcance de su trabajo y generar 
 conversaciones significativas en su campo.\n\nNo espere pasivamente a que 
 otros descubran su investigación\; este webinar le mostrará cómo tomar 
 un rol activo en la diseminación de su conocimiento para potenciar su con
 tribución al avance científico global.
LOCATION:https://us06web.zoom.us/webinar/register/WN_gA_tgR62RDa2-XguBdItZw
 ?sap-outbound-id=23EE680A440E07F8AEF63BFC860764E775B575A9#/registration
END:VEVENT
BEGIN:VTIMEZONE
TZID:America/Bogota
X-LIC-LOCATION:America/Bogota
BEGIN:STANDARD
DTSTART:20240924T110000
TZOFFSETFROM:-0500
TZOFFSETTO:-0500
TZNAME:-05
END:STANDARD
END:VTIMEZONE
END:VCALENDAR