BEGIN:VCALENDAR
VERSION:2.0
PRODID:-//wp-events-plugin.com//7.2.3.1//EN
BEGIN:VEVENT
UID:288@biblio.ucaldas.edu.co
DTSTART;TZID=America/Bogota:20251028T130000
DTEND;TZID=America/Bogota:20251028T140000
DTSTAMP:20250930T152003Z
URL:https://biblio.ucaldas.edu.co/events/como-gestionar-citas-y-referencia
 s-bibliograficas-en-mis-proyectos-5/
SUMMARY:¿Cómo gestionar citas y referencias bibliográficas en mis proyec
 tos?
DESCRIPTION:Agenda\n\n1. Introducción a los gestores de referencias\n2. Cr
 eación de mi cuenta de Endnote Online\n3. Ejercicios para recuperar\, agr
 upar y aplicar estilo a mis referencias\n4. Ejercicios para recuperar text
 o completo a través de EndNote Click 5. Descarga y utiliza el plugin Cita
  Mientras Escribes para Word\n\nEl objetivo de este webinar es utilizar el
  gestor de referencias EndNote Online como herramienta para dar formato a 
 las citas y referencias de mis proyectos de forma rápida y sencilla.\n\nS
 itio de entrenamientos en español: https://www.youtube.com/@clariva
LOCATION:https://clarivatewebinars.webex.com/webappng/sites/clarivatewebina
 rs/meeting/register/83c6ce59e97b4bb2b891f337bd302e1b?ticket=4832534b000000
 07fec5bae03791509e1d43a1035904313d69bfc193828b7e0f8d9e414eeb8c0e61&timesta
 mp=1759245035895&RGID=r358b6812b08c774525532199b696a2cd&isAutoPopRegisterF
 orm=false
END:VEVENT
BEGIN:VTIMEZONE
TZID:America/Bogota
X-LIC-LOCATION:America/Bogota
BEGIN:STANDARD
DTSTART:20241028T130000
TZOFFSETFROM:-0500
TZOFFSETTO:-0500
TZNAME:-05
END:STANDARD
END:VTIMEZONE
END:VCALENDAR