BEGIN:VCALENDAR
VERSION:2.0
PRODID:-//wp-events-plugin.com//7.2.3.1//EN
BEGIN:VEVENT
UID:259@biblio.ucaldas.edu.co
DTSTART;TZID=America/Bogota:20250826T160000
DTEND;TZID=America/Bogota:20250826T170000
DTSTAMP:20250728T153546Z
URL:https://biblio.ucaldas.edu.co/events/como-gestionar-citas-y-referencia
 s-bibliograficas-en-mis-proyectos-4/
SUMMARY:¿Cómo gestionar citas y referencias bibliográficas en mis proyec
 tos?
DESCRIPTION:Agenda\n\n1. Introducción a los gestores de referencias\n2. Cr
 eación de mi cuenta de Endnote Online\n3. Ejercicios para recuperar\, agr
 upar y aplicar estilo a mis referencias\n4. Ejercicios para recuperar text
 o completo a través de EndNote Click\n5. Descarga y utiliza el plugin Cit
 a Mientras Escribes para Word\n\nEl objetivo de este webinar es utilizar e
 l gestor de referencias EndNote Online como herramienta para dar formato a
  las citas y referencias de mis proyectos de forma rápida y sencilla.\n\n
 Sitio de entrenamientos en español: https://www.youtube.com/@clarivatelat
 amoficial1706/videos
LOCATION:https://clarivatewebinars.webex.com/webappng/sites/clarivatewebina
 rs/meeting/register/c21ce7bcb05b4bc491a0e2bbd8629934?ticket=4832534b000000
 07931c9240e8cdbb5f249cb0e65ffc551386120e13b6a3e2d78f39c395fe060e18&timesta
 mp=1753716853282&RGID=r10db8233fb89362bcb727df7172e2fda&isAutoPopRegisterF
 orm=false
END:VEVENT
BEGIN:VTIMEZONE
TZID:America/Bogota
X-LIC-LOCATION:America/Bogota
BEGIN:STANDARD
DTSTART:20240826T160000
TZOFFSETFROM:-0500
TZOFFSETTO:-0500
TZNAME:-05
END:STANDARD
END:VTIMEZONE
END:VCALENDAR