BEGIN:VCALENDAR
VERSION:2.0
PRODID:-//wp-events-plugin.com//7.2.3.1//EN
BEGIN:VEVENT
UID:239@biblio.ucaldas.edu.co
DTSTART;TZID=America/Bogota:20250624T130000
DTEND;TZID=America/Bogota:20250624T140000
DTSTAMP:20250604T183829Z
URL:https://biblio.ucaldas.edu.co/events/como-gestionar-citas-y-referencia
 s-bibliograficas-en-mis-proyectos-3/
SUMMARY:¿Cómo gestionar citas y referencias bibliográficas en mis proyec
 tos?
DESCRIPTION:Agenda\n&nbsp\;\n1. Introducción a los gestores de referencias
 \n2. Creación de mi cuenta de Endnote Online\n3. Ejercicios para recupera
 r\, agrupar y aplicar estilo a mis referencias\n4. Ejercicios para recuper
 ar texto completo a través de EndNote Click 5. Descarga y utiliza el plug
 in Cita Mientras Escribes para Word\n\nEl objetivo de este webinar es util
 izar el gestor de referencias EndNote Online como herramienta para dar for
 mato a las citas y referencias de mis proyectos de forma rápida y sencill
 a.\n\nSitio de entrenamientos en español: https://www.youtube.com/@clariv
 atelatamoficial1706/videos
LOCATION:https://clarivatewebinars.webex.com/webappng/sites/clarivatewebina
 rs/meeting/register/e187132c48ad46dfb19ee9e1d88323ba?ticket=4832534b000000
 07ee194a7b5414ce8f4702e3ebd54e7b2a7b19b22b926bc61fca6c7a5809364cb7&timesta
 mp=1749062243863&RGID=r4c46342b86734032377068b5009e78d2&isAutoPopRegisterF
 orm=false
END:VEVENT
BEGIN:VTIMEZONE
TZID:America/Bogota
X-LIC-LOCATION:America/Bogota
BEGIN:STANDARD
DTSTART:20240624T130000
TZOFFSETFROM:-0500
TZOFFSETTO:-0500
TZNAME:-05
END:STANDARD
END:VTIMEZONE
END:VCALENDAR