BEGIN:VCALENDAR
VERSION:2.0
PRODID:-//wp-events-plugin.com//7.2.3.1//EN
BEGIN:VEVENT
UID:222@biblio.ucaldas.edu.co
DTSTART;TZID=America/Bogota:20250422T160000
DTEND;TZID=America/Bogota:20250422T170000
DTSTAMP:20250410T132309Z
URL:https://biblio.ucaldas.edu.co/events/como-gestionar-citas-y-referencia
 s-bibliograficas-en-mis-proyectos-2/
SUMMARY:¿Cómo gestionar citas y referencias bibliográficas en mis proyec
 tos?
DESCRIPTION:Agenda\n\n 	Introducción a los gestores de referencias\n 	Crea
 ción de mi cuenta de Endnote Online\n 	Ejercicios para recuperar\, agrupa
 r y aplicar estilo a mis referencias\n 	Ejercicios para recuperar texto co
 mpleto a través de EndNote Click\n 	Descarga y utiliza el plugin Cita Mie
 ntras Escribes para Word\n\nEl objetivo de este webinar es utilizar el ges
 tor de referencias EndNote Online como herramienta para dar formato a las 
 citas y referencias de mis proyectos de forma rápida y sencilla.\n\nSitio
  de entrenamientos en español: https://www.youtube.com/@clarivatelatamofi
 cial1706/videos
LOCATION:https://clarivatewebinars.webex.com/webappng/sites/clarivatewebina
 rs/meeting/register/63fc61bc63284f8abaceb3f2ae2cffed?ticket=4832534b000000
 072b87733dc36ff167d6e1303bfd772d8534786ed560ef4dd23e31e5783050def5&timesta
 mp=1744291289263&RGID=rce7175ca8bd9f05c311e3b6928520d30&isAutoPopRegisterF
 orm=false
END:VEVENT
BEGIN:VTIMEZONE
TZID:America/Bogota
X-LIC-LOCATION:America/Bogota
BEGIN:STANDARD
DTSTART:20240422T160000
TZOFFSETFROM:-0500
TZOFFSETTO:-0500
TZNAME:-05
END:STANDARD
END:VTIMEZONE
END:VCALENDAR