BEGIN:VCALENDAR
VERSION:2.0
PRODID:-//wp-events-plugin.com//7.2.3.1//EN
BEGIN:VEVENT
UID:286@biblio.ucaldas.edu.co
DTSTART;TZID=America/Bogota:20251021T130000
DTEND;TZID=America/Bogota:20251021T140000
DTSTAMP:20250930T150303Z
URL:https://biblio.ucaldas.edu.co/events/como-generar-un-proyecto-de-inves
 tigacion-de-alto-impacto-5/
SUMMARY:¿Cómo generar un proyecto de investigación de alto impacto?
DESCRIPTION:Agenda\n\n1. Lo más importante de Web of Science\n2. Creación
  de mi perfil de usuario en Web of Science\n3. Ejercicios para localizar i
 nformación confiable\, novedosa e impactante\n4. Cómo recuperar textos c
 ompletos en Open Access (EndNote Click)\n5. Conexión de ideas y citacione
 s en índices complementarios de Web of Science\n\nEl objetivo de este web
 inar es utilizar la Colección Principal de Web of Science y Scielo Citati
 on Index como aliadas para respaldar mis ideas haciendo uso de la informac
 ión más confiable\, novedosa e impactante de mi área de estudio.\n\nSit
 io de entrenamientos en español: https://www.youtube.com/@clarivatelatamo
 ficial1706/videos
LOCATION:https://clarivatewebinars.webex.com/webappng/sites/clarivatewebina
 rs/meeting/register/71d71a7ef1084788b4ea64337eeb7441?ticket=4832534b000000
 0782ab03e65a5e7651497e9bd24622d0449f497e78385d483ed9a2e7076b4e9135&timesta
 mp=1759244455088&RGID=re72e4a1be9ca0d6ae28c7f508864b6fd&isAutoPopRegisterF
 orm=false
END:VEVENT
BEGIN:VTIMEZONE
TZID:America/Bogota
X-LIC-LOCATION:America/Bogota
BEGIN:STANDARD
DTSTART:20241021T130000
TZOFFSETFROM:-0500
TZOFFSETTO:-0500
TZNAME:-05
END:STANDARD
END:VTIMEZONE
END:VCALENDAR