BEGIN:VCALENDAR
VERSION:2.0
PRODID:-//wp-events-plugin.com//7.2.3.1//EN
BEGIN:VEVENT
UID:237@biblio.ucaldas.edu.co
DTSTART;TZID=America/Bogota:20250617T130000
DTEND;TZID=America/Bogota:20250617T140000
DTSTAMP:20250604T183539Z
URL:https://biblio.ucaldas.edu.co/events/como-generar-un-proyecto-de-inves
 tigacion-de-alto-impacto-3/
SUMMARY:¿Cómo generar un proyecto de investigación de alto impacto?
DESCRIPTION:Agenda\n\n1. Lo más importante de Web of Science\n2. Creación
  de mi perfil de usuario en Web of Science\n3. Ejercicios para localizar i
 nformación confiable\, novedosa e impactante\n4. Cómo recuperar textos c
 ompletos en Open Access (EndNote Click)\n5. Conexión de ideas y citacione
 s en índices complementarios de Web of Science\n\nEl objetivo de este web
 inar es utilizar la Colección Principal de Web of Science y Scielo Citati
 on Index como aliadas para respaldar mis ideas haciendo uso de la informac
 ión más confiable\, novedosa e impactante de mi área de estudio.\n\nSit
 io de entrenamientos en español: https://www.youtube.com/@clarivatelatamo
 ficial1706/videos
LOCATION:https://clarivatewebinars.webex.com/webappng/sites/clarivatewebina
 rs/meeting/register/6946e29a5fa144a3b355e95e2f0992f6?ticket=4832534b000000
 07ba82f1ae5b94b45b34890f12b721787571289fe5632a8c82ea68edf8b33f09e9&timesta
 mp=1749062057565&RGID=ra16e2c5ab9865013d82d73c79665a9ad&isAutoPopRegisterF
 orm=false
END:VEVENT
BEGIN:VTIMEZONE
TZID:America/Bogota
X-LIC-LOCATION:America/Bogota
BEGIN:STANDARD
DTSTART:20240617T130000
TZOFFSETFROM:-0500
TZOFFSETTO:-0500
TZNAME:-05
END:STANDARD
END:VTIMEZONE
END:VCALENDAR